BEGIN:VCALENDAR
VERSION:2.0
PRODID:-//sjcschargers.com//NONSGML kigkonsult.se iCalcreator 2.30.10//
CALSCALE:GREGORIAN
METHOD:PUBLISH
UID:1624b5bf-a933-4bcb-a82b-58f4e42b8947
X-WR-CALDESC:
X-WR-RELCALID:b3c1c44e9ed7bdaf49d4431952856108
X-WR-TIMEZONE:America/New_York
BEGIN:VTIMEZONE
TZID:America/New_York
BEGIN:STANDARD
TZNAME:EST
DTSTART:20221106T020000
TZOFFSETFROM:-0400
TZOFFSETTO:-0500
RDATE:20231105T020000
END:STANDARD
BEGIN:DAYLIGHT
TZNAME:EDT
DTSTART:20220313T020000
TZOFFSETFROM:-0500
TZOFFSETTO:-0400
RDATE:20230312T020000
RDATE:20240310T020000
END:DAYLIGHT
END:VTIMEZONE
BEGIN:VEVENT
UID:8cdc1c7f-b2f7-4990-9b3b-3f56b747b2e6
DTSTAMP:20260425T162743Z
DESCRIPTION:
DTSTART;TZID=America/New_York:20230223T000000
DTEND;TZID=America/New_York:20230223T235900
LOCATION:
SUMMARY:H&S Quarterly Parent Meeting 6pm
END:VEVENT
END:VCALENDAR
