BEGIN:VCALENDAR
VERSION:2.0
PRODID:-//sjcschargers.com//NONSGML kigkonsult.se iCalcreator 2.30.10//
CALSCALE:GREGORIAN
METHOD:PUBLISH
UID:6a9445f9-f46c-4da8-95ad-f4db9e297320
X-WR-CALDESC:
X-WR-RELCALID:ab114669497e9cd5c38ad28ca7215192
X-WR-TIMEZONE:America/New_York
BEGIN:VTIMEZONE
TZID:America/New_York
BEGIN:STANDARD
TZNAME:EST
DTSTART:20221106T020000
TZOFFSETFROM:-0400
TZOFFSETTO:-0500
RDATE:20231105T020000
END:STANDARD
BEGIN:DAYLIGHT
TZNAME:EDT
DTSTART:20220313T020000
TZOFFSETFROM:-0500
TZOFFSETTO:-0400
RDATE:20230312T020000
RDATE:20240310T020000
END:DAYLIGHT
END:VTIMEZONE
BEGIN:VEVENT
UID:5ee26cd9-80f0-4eca-9ba9-7124d340a25d
DTSTAMP:20260425T143558Z
DESCRIPTION:
DTSTART;TZID=America/New_York:20230306T000000
DTEND;TZID=America/New_York:20230306T235900
LOCATION:
SUMMARY:3A Class Mass
END:VEVENT
END:VCALENDAR
