BEGIN:VCALENDAR
VERSION:2.0
PRODID:-//sjcschargers.com//NONSGML kigkonsult.se iCalcreator 2.30.10//
CALSCALE:GREGORIAN
METHOD:PUBLISH
UID:47b55e4f-9027-4d80-ad08-f2f568bda1f1
X-WR-CALDESC:
X-WR-RELCALID:752debcb4abea2c08e701a39b6729267
X-WR-TIMEZONE:America/New_York
BEGIN:VTIMEZONE
TZID:America/New_York
BEGIN:STANDARD
TZNAME:EST
DTSTART:20221106T020000
TZOFFSETFROM:-0400
TZOFFSETTO:-0500
RDATE:20231105T020000
END:STANDARD
BEGIN:DAYLIGHT
TZNAME:EDT
DTSTART:20220313T020000
TZOFFSETFROM:-0500
TZOFFSETTO:-0400
RDATE:20230312T020000
RDATE:20240310T020000
END:DAYLIGHT
END:VTIMEZONE
BEGIN:VEVENT
UID:84f63eb1-6e12-4d59-8dd2-f22e9423765d
DTSTAMP:20260425T144532Z
DESCRIPTION:
DTSTART;TZID=America/New_York:20230307T000000
DTEND;TZID=America/New_York:20230307T235900
LOCATION:
SUMMARY:Spirit Day-spirt shirt/uniform bottoms
END:VEVENT
END:VCALENDAR
