BEGIN:VCALENDAR
VERSION:2.0
PRODID:-//sjcschargers.com//NONSGML kigkonsult.se iCalcreator 2.30.10//
CALSCALE:GREGORIAN
METHOD:PUBLISH
UID:8b3a3a1d-970b-4cf8-84c7-c9d891481dfb
X-WR-CALDESC:Girls Home vs Christ Lutheran 4pm
X-WR-RELCALID:ce9468d46e5234a55f2ea4d677f62938
X-WR-TIMEZONE:America/New_York
BEGIN:VTIMEZONE
TZID:America/New_York
BEGIN:STANDARD
TZNAME:EST
DTSTART:20221106T020000
TZOFFSETFROM:-0400
TZOFFSETTO:-0500
RDATE:20231105T020000
END:STANDARD
BEGIN:DAYLIGHT
TZNAME:EDT
DTSTART:20220313T020000
TZOFFSETFROM:-0500
TZOFFSETTO:-0400
RDATE:20230312T020000
RDATE:20240310T020000
END:DAYLIGHT
END:VTIMEZONE
BEGIN:VEVENT
UID:b1d0e922-7cfb-4955-985e-3afbc3260564
DTSTAMP:20260425T144126Z
DESCRIPTION:Girls Home vs Christ Lutheran 4pm
DTSTART;TZID=America/New_York:20230307T000000
DTEND;TZID=America/New_York:20230307T235900
LOCATION:
SUMMARY:Flag Football Game
END:VEVENT
END:VCALENDAR
