BEGIN:VCALENDAR
VERSION:2.0
PRODID:-//sjcschargers.com//NONSGML kigkonsult.se iCalcreator 2.30.10//
CALSCALE:GREGORIAN
METHOD:PUBLISH
UID:555d388e-d734-4ed2-9640-62e44854962c
X-WR-CALDESC:
X-WR-RELCALID:2d4b4b08d801a1ca58f9c53bb939400c
X-WR-TIMEZONE:America/New_York
BEGIN:VTIMEZONE
TZID:America/New_York
BEGIN:STANDARD
TZNAME:EST
DTSTART:20221106T020000
TZOFFSETFROM:-0400
TZOFFSETTO:-0500
RDATE:20231105T020000
END:STANDARD
BEGIN:DAYLIGHT
TZNAME:EDT
DTSTART:20220313T020000
TZOFFSETFROM:-0500
TZOFFSETTO:-0400
RDATE:20230312T020000
RDATE:20240310T020000
END:DAYLIGHT
END:VTIMEZONE
BEGIN:VEVENT
UID:02fe6c65-22f9-4616-b253-f8eddf6cb6f6
DTSTAMP:20260425T143922Z
DESCRIPTION:
DTSTART;TZID=America/New_York:20230310T000000
DTEND;TZID=America/New_York:20230310T235900
LOCATION:
SUMMARY:End of 3rd Quarter
END:VEVENT
END:VCALENDAR
