BEGIN:VCALENDAR
VERSION:2.0
PRODID:-//sjcschargers.com//NONSGML kigkonsult.se iCalcreator 2.30.10//
CALSCALE:GREGORIAN
METHOD:PUBLISH
UID:b65a6012-47ab-47a8-8171-14dbb7bfe579
X-WR-CALDESC:
X-WR-RELCALID:a9f1aeac7d1980edc52690f5a0b29b95
X-WR-TIMEZONE:America/New_York
BEGIN:VTIMEZONE
TZID:America/New_York
BEGIN:STANDARD
TZNAME:EST
DTSTART:20221106T020000
TZOFFSETFROM:-0400
TZOFFSETTO:-0500
RDATE:20231105T020000
END:STANDARD
BEGIN:DAYLIGHT
TZNAME:EDT
DTSTART:20220313T020000
TZOFFSETFROM:-0500
TZOFFSETTO:-0400
RDATE:20230312T020000
RDATE:20240310T020000
END:DAYLIGHT
END:VTIMEZONE
BEGIN:VEVENT
UID:038fc3b1-1357-4846-834c-5622d91c4451
DTSTAMP:20260425T143558Z
DESCRIPTION:
DTSTART;TZID=America/New_York:20230313T000000
DTEND;TZID=America/New_York:20230317T235900
LOCATION:
SUMMARY:Spring Break
END:VEVENT
END:VCALENDAR
