BEGIN:VCALENDAR
VERSION:2.0
PRODID:-//sjcschargers.com//NONSGML kigkonsult.se iCalcreator 2.30.10//
CALSCALE:GREGORIAN
METHOD:PUBLISH
UID:6d77b949-2c90-435b-acfd-d947c47cd937
X-WR-CALDESC:Girls @ Redeemer (YMCA) 4pm\; Boys @ Redeemer (YMCA) 5pm
X-WR-RELCALID:6686fee81e31296d25389a698a7a7330
X-WR-TIMEZONE:America/New_York
BEGIN:VTIMEZONE
TZID:America/New_York
BEGIN:STANDARD
TZNAME:EST
DTSTART:20221106T020000
TZOFFSETFROM:-0400
TZOFFSETTO:-0500
RDATE:20231105T020000
END:STANDARD
BEGIN:DAYLIGHT
TZNAME:EDT
DTSTART:20230312T020000
TZOFFSETFROM:-0500
TZOFFSETTO:-0400
RDATE:20240310T020000
END:DAYLIGHT
END:VTIMEZONE
BEGIN:VEVENT
UID:7d2b0ed8-193f-4db5-bec7-5e9fd5f05376
DTSTAMP:20260425T144235Z
DESCRIPTION:Girls @ Redeemer (YMCA) 4pm\; Boys @ Redeemer (YMCA) 5pm
DTSTART;TZID=America/New_York:20230321T000000
DTEND;TZID=America/New_York:20230321T235900
LOCATION:
SUMMARY:Flag Football Games
END:VEVENT
END:VCALENDAR
