BEGIN:VCALENDAR
VERSION:2.0
PRODID:-//sjcschargers.com//NONSGML kigkonsult.se iCalcreator 2.30.10//
CALSCALE:GREGORIAN
METHOD:PUBLISH
UID:4c30b2a7-a672-481e-9538-4e49d915b8ce
X-WR-CALDESC:Girls @ Home vs St. A's 4pm\; Boys @ Home vs St. A's 5pm
X-WR-RELCALID:3e2abb3ae79aa77bd9684aa2d9f31c11
X-WR-TIMEZONE:America/New_York
BEGIN:VTIMEZONE
TZID:America/New_York
BEGIN:STANDARD
TZNAME:EST
DTSTART:20221106T020000
TZOFFSETFROM:-0400
TZOFFSETTO:-0500
RDATE:20231105T020000
END:STANDARD
BEGIN:DAYLIGHT
TZNAME:EDT
DTSTART:20230312T020000
TZOFFSETFROM:-0500
TZOFFSETTO:-0400
RDATE:20240310T020000
END:DAYLIGHT
END:VTIMEZONE
BEGIN:VEVENT
UID:9fc6b648-cc1b-4538-b7fc-d9c01a3d9dec
DTSTAMP:20260425T144251Z
DESCRIPTION:Girls @ Home vs St. A's 4pm\; Boys @ Home vs St. A's 5pm
DTSTART;TZID=America/New_York:20230322T000000
DTEND;TZID=America/New_York:20230322T235900
LOCATION:
SUMMARY:Flag Football Games
END:VEVENT
END:VCALENDAR
