BEGIN:VCALENDAR
VERSION:2.0
PRODID:-//sjcschargers.com//NONSGML kigkonsult.se iCalcreator 2.30.10//
CALSCALE:GREGORIAN
METHOD:PUBLISH
UID:c44225b5-cd2d-4490-a19a-d4f6a5c6bdf3
X-WR-CALDESC:
X-WR-RELCALID:f52e375b64d5f7255df9254b5421c166
X-WR-TIMEZONE:America/New_York
BEGIN:VTIMEZONE
TZID:America/New_York
BEGIN:STANDARD
TZNAME:EST
DTSTART:20221106T020000
TZOFFSETFROM:-0400
TZOFFSETTO:-0500
RDATE:20231105T020000
END:STANDARD
BEGIN:DAYLIGHT
TZNAME:EDT
DTSTART:20230312T020000
TZOFFSETFROM:-0500
TZOFFSETTO:-0400
RDATE:20240310T020000
END:DAYLIGHT
END:VTIMEZONE
BEGIN:VEVENT
UID:6bab3c7b-ae0b-4f5a-ac04-b6aefff2a112
DTSTAMP:20260425T143830Z
DESCRIPTION:
DTSTART;TZID=America/New_York:20230327T000000
DTEND;TZID=America/New_York:20230327T235900
LOCATION:
SUMMARY:VPK-B Prayer Service
END:VEVENT
END:VCALENDAR
