BEGIN:VCALENDAR
VERSION:2.0
PRODID:-//sjcschargers.com//NONSGML kigkonsult.se iCalcreator 2.30.10//
CALSCALE:GREGORIAN
METHOD:PUBLISH
UID:61160811-f9d9-47f8-84d8-ebd9dc8b0aaa
X-WR-CALDESC:Girls @ Home vs Calvary Christian 4pm\; Boys @ Home vs Calvary
  Christian 5pm
X-WR-RELCALID:cbc6d8ff21fe2d3d1f333e98f9d4bbbf
X-WR-TIMEZONE:America/New_York
BEGIN:VTIMEZONE
TZID:America/New_York
BEGIN:STANDARD
TZNAME:EST
DTSTART:20221106T020000
TZOFFSETFROM:-0400
TZOFFSETTO:-0500
RDATE:20231105T020000
END:STANDARD
BEGIN:DAYLIGHT
TZNAME:EDT
DTSTART:20230312T020000
TZOFFSETFROM:-0500
TZOFFSETTO:-0400
RDATE:20240310T020000
END:DAYLIGHT
END:VTIMEZONE
BEGIN:VEVENT
UID:4080d9a2-90ce-42fc-8134-fc280ef36302
DTSTAMP:20260425T144229Z
DESCRIPTION:Girls @ Home vs Calvary Christian 4pm\; Boys @ Home vs Calvary 
 Christian 5pm
DTSTART;TZID=America/New_York:20230328T000000
DTEND;TZID=America/New_York:20230328T235900
LOCATION:
SUMMARY:Flag Football Games
END:VEVENT
END:VCALENDAR
