BEGIN:VCALENDAR
VERSION:2.0
PRODID:-//sjcschargers.com//NONSGML kigkonsult.se iCalcreator 2.30.10//
CALSCALE:GREGORIAN
METHOD:PUBLISH
UID:9bc640ce-78aa-47e4-a4d5-093625870cf0
X-WR-CALDESC:
X-WR-RELCALID:c87d703e67879c81101a251d85300a20
X-WR-TIMEZONE:America/New_York
BEGIN:VTIMEZONE
TZID:America/New_York
BEGIN:STANDARD
TZNAME:EST
DTSTART:20221106T020000
TZOFFSETFROM:-0400
TZOFFSETTO:-0500
RDATE:20231105T020000
END:STANDARD
BEGIN:DAYLIGHT
TZNAME:EDT
DTSTART:20230312T020000
TZOFFSETFROM:-0500
TZOFFSETTO:-0400
RDATE:20240310T020000
END:DAYLIGHT
END:VTIMEZONE
BEGIN:VEVENT
UID:8e36eb10-e11f-481b-87d1-1beadbaff37a
DTSTAMP:20260425T143942Z
DESCRIPTION:
DTSTART;TZID=America/New_York:20230328T000000
DTEND;TZID=America/New_York:20230328T235900
LOCATION:
SUMMARY:Little Lambs Prayer Service
END:VEVENT
END:VCALENDAR
