BEGIN:VCALENDAR
VERSION:2.0
PRODID:-//sjcschargers.com//NONSGML kigkonsult.se iCalcreator 2.30.10//
CALSCALE:GREGORIAN
METHOD:PUBLISH
UID:4f1f179c-7f5c-4a69-951f-a63142ccd58a
X-WR-CALDESC:Girls @ Home vs Redeemer 4pm\; Boys @ Home vs Redeemer 5pm
X-WR-RELCALID:27c4e08074c90c790505024a2e99d8a7
X-WR-TIMEZONE:America/New_York
BEGIN:VTIMEZONE
TZID:America/New_York
BEGIN:STANDARD
TZNAME:EST
DTSTART:20221106T020000
TZOFFSETFROM:-0400
TZOFFSETTO:-0500
RDATE:20231105T020000
END:STANDARD
BEGIN:DAYLIGHT
TZNAME:EDT
DTSTART:20230312T020000
TZOFFSETFROM:-0500
TZOFFSETTO:-0400
RDATE:20240310T020000
END:DAYLIGHT
END:VTIMEZONE
BEGIN:VEVENT
UID:b8fdc35e-3a48-4151-af66-18f956892d7c
DTSTAMP:20260425T144408Z
DESCRIPTION:Girls @ Home vs Redeemer 4pm\; Boys @ Home vs Redeemer 5pm
DTSTART;TZID=America/New_York:20230330T000000
DTEND;TZID=America/New_York:20230330T235900
LOCATION:
SUMMARY:Flag Football Games
END:VEVENT
END:VCALENDAR
