BEGIN:VCALENDAR
VERSION:2.0
PRODID:-//sjcschargers.com//NONSGML kigkonsult.se iCalcreator 2.30.10//
CALSCALE:GREGORIAN
METHOD:PUBLISH
UID:8213bdca-ad31-48be-919e-27ff5478d9df
X-WR-CALDESC:
X-WR-RELCALID:a54ba87699cc0a1d46f3dbb474d3a2b7
X-WR-TIMEZONE:America/New_York
BEGIN:VTIMEZONE
TZID:America/New_York
BEGIN:STANDARD
TZNAME:EST
DTSTART:20221106T020000
TZOFFSETFROM:-0400
TZOFFSETTO:-0500
RDATE:20231105T020000
END:STANDARD
BEGIN:DAYLIGHT
TZNAME:EDT
DTSTART:20230312T020000
TZOFFSETFROM:-0500
TZOFFSETTO:-0400
RDATE:20240310T020000
END:DAYLIGHT
END:VTIMEZONE
BEGIN:VEVENT
UID:b916e471-2555-49bc-a2d6-533e8d1eb99b
DTSTAMP:20260425T124553Z
DESCRIPTION:
DTSTART;TZID=America/New_York:20230406T000000
DTEND;TZID=America/New_York:20230406T235900
LOCATION:
SUMMARY:No School - Holy Thursday
END:VEVENT
END:VCALENDAR
