BEGIN:VCALENDAR
VERSION:2.0
PRODID:-//sjcschargers.com//NONSGML kigkonsult.se iCalcreator 2.30.10//
CALSCALE:GREGORIAN
METHOD:PUBLISH
UID:e08d7f69-a5c2-44b5-bdf6-623ae7f729f0
X-WR-CALDESC:Boys @ First Baptist (Langford Park) 4pm
X-WR-RELCALID:f3506424266e6607ba3ba743cef5b8a3
X-WR-TIMEZONE:America/New_York
BEGIN:VTIMEZONE
TZID:America/New_York
BEGIN:STANDARD
TZNAME:EST
DTSTART:20221106T020000
TZOFFSETFROM:-0400
TZOFFSETTO:-0500
RDATE:20231105T020000
END:STANDARD
BEGIN:DAYLIGHT
TZNAME:EDT
DTSTART:20230312T020000
TZOFFSETFROM:-0500
TZOFFSETTO:-0400
RDATE:20240310T020000
END:DAYLIGHT
END:VTIMEZONE
BEGIN:VEVENT
UID:14b35a43-3a8a-4718-9949-040147ce747a
DTSTAMP:20260425T125001Z
DESCRIPTION:Boys @ First Baptist (Langford Park) 4pm
DTSTART;TZID=America/New_York:20230411T000000
DTEND;TZID=America/New_York:20230411T235900
LOCATION:
SUMMARY:Flag Football Game
END:VEVENT
END:VCALENDAR
