BEGIN:VCALENDAR
VERSION:2.0
PRODID:-//sjcschargers.com//NONSGML kigkonsult.se iCalcreator 2.30.10//
CALSCALE:GREGORIAN
METHOD:PUBLISH
UID:6a995161-a3e8-41e8-87c4-ba8be8979839
X-WR-CALDESC:Boys @ St. Helen 4pm
X-WR-RELCALID:38c43242420c837e3a3edc549574d0a4
X-WR-TIMEZONE:America/New_York
BEGIN:VTIMEZONE
TZID:America/New_York
BEGIN:STANDARD
TZNAME:EST
DTSTART:20221106T020000
TZOFFSETFROM:-0400
TZOFFSETTO:-0500
RDATE:20231105T020000
END:STANDARD
BEGIN:DAYLIGHT
TZNAME:EDT
DTSTART:20230312T020000
TZOFFSETFROM:-0500
TZOFFSETTO:-0400
RDATE:20240310T020000
END:DAYLIGHT
END:VTIMEZONE
BEGIN:VEVENT
UID:247bb80a-2868-40df-8a8c-6076a7867aea
DTSTAMP:20260425T124946Z
DESCRIPTION:Boys @ St. Helen 4pm
DTSTART;TZID=America/New_York:20230417T000000
DTEND;TZID=America/New_York:20230417T235900
LOCATION:
SUMMARY:Flag Football Game
END:VEVENT
END:VCALENDAR
