BEGIN:VCALENDAR
VERSION:2.0
PRODID:-//sjcschargers.com//NONSGML kigkonsult.se iCalcreator 2.30.10//
CALSCALE:GREGORIAN
METHOD:PUBLISH
UID:ce043e1d-9b1e-4e77-accd-2993374e9a90
X-WR-CALDESC:Girls @ Christ Lutheran 4pm
X-WR-RELCALID:5f91bf810968469abec2641a5c5c9402
X-WR-TIMEZONE:America/New_York
BEGIN:VTIMEZONE
TZID:America/New_York
BEGIN:STANDARD
TZNAME:EST
DTSTART:20221106T020000
TZOFFSETFROM:-0400
TZOFFSETTO:-0500
RDATE:20231105T020000
END:STANDARD
BEGIN:DAYLIGHT
TZNAME:EDT
DTSTART:20230312T020000
TZOFFSETFROM:-0500
TZOFFSETTO:-0400
RDATE:20240310T020000
END:DAYLIGHT
END:VTIMEZONE
BEGIN:VEVENT
UID:80c8571a-cc26-4484-bf46-7a23cdd041dc
DTSTAMP:20260425T124801Z
DESCRIPTION:Girls @ Christ Lutheran 4pm
DTSTART;TZID=America/New_York:20230425T000000
DTEND;TZID=America/New_York:20230425T235900
LOCATION:
SUMMARY:Flag Football Game
END:VEVENT
END:VCALENDAR
