BEGIN:VCALENDAR
VERSION:2.0
PRODID:-//sjcschargers.com//NONSGML kigkonsult.se iCalcreator 2.30.10//
CALSCALE:GREGORIAN
METHOD:PUBLISH
UID:547a14e9-4cdc-4372-ae4c-482bbae41b88
X-WR-CALDESC:
X-WR-RELCALID:7ac4e0c3064c11c6e3401e603c202a92
X-WR-TIMEZONE:America/New_York
BEGIN:VTIMEZONE
TZID:America/New_York
BEGIN:STANDARD
TZNAME:EST
DTSTART:20221106T020000
TZOFFSETFROM:-0400
TZOFFSETTO:-0500
RDATE:20231105T020000
END:STANDARD
BEGIN:DAYLIGHT
TZNAME:EDT
DTSTART:20230312T020000
TZOFFSETFROM:-0500
TZOFFSETTO:-0400
RDATE:20240310T020000
END:DAYLIGHT
END:VTIMEZONE
BEGIN:VEVENT
UID:cd5b6966-9502-49a9-abc5-e9e17ee11c2d
DTSTAMP:20260425T105608Z
DESCRIPTION:
DTSTART;TZID=America/New_York:20230502T000000
DTEND;TZID=America/New_York:20230502T235900
LOCATION:
SUMMARY:Spirit Day-spirt shirt/uniform bottoms
END:VEVENT
END:VCALENDAR
