BEGIN:VCALENDAR
VERSION:2.0
PRODID:-//sjcschargers.com//NONSGML kigkonsult.se iCalcreator 2.30.10//
CALSCALE:GREGORIAN
METHOD:PUBLISH
UID:75d71259-67b1-4478-9d61-57d6422cca79
X-WR-CALDESC:First School Mass\, this week it will be held on Thursday inst
 ead of Wednesday.
X-WR-RELCALID:1d5dc23f7f8d7056426fe07cc232129d
X-WR-TIMEZONE:America/New_York
BEGIN:VTIMEZONE
TZID:America/New_York
BEGIN:STANDARD
TZNAME:EST
DTSTART:20231105T020000
TZOFFSETFROM:-0400
TZOFFSETTO:-0500
RDATE:20241103T020000
RDATE:20251102T020000
END:STANDARD
BEGIN:DAYLIGHT
TZNAME:EDT
DTSTART:20240310T020000
TZOFFSETFROM:-0500
TZOFFSETTO:-0400
RDATE:20250309T020000
END:DAYLIGHT
END:VTIMEZONE
BEGIN:VEVENT
UID:e4892d3f-a4c5-411b-be39-fc6817dea818
DTSTAMP:20260425T191729Z
DESCRIPTION:First School Mass\, this week it will be held on Thursday inste
 ad of Wednesday.
DTSTART;TZID=America/New_York:20240815T083000
DTEND;TZID=America/New_York:20240815T093000
LOCATION:1200 SE 10th Street\, Stuart\, FL 34994 US
SUMMARY:All School Mass led by Teachers
END:VEVENT
END:VCALENDAR
