BEGIN:VCALENDAR
VERSION:2.0
PRODID:-//sjcschargers.com//NONSGML kigkonsult.se iCalcreator 2.30.10//
CALSCALE:GREGORIAN
METHOD:PUBLISH
UID:c6cfc62d-5c1a-41d0-8f5d-8da4d1900880
X-WR-CALDESC:
X-WR-RELCALID:ef4adb6426c5322acd42dcd728aeb7de
X-WR-TIMEZONE:America/New_York
BEGIN:VTIMEZONE
TZID:America/New_York
BEGIN:STANDARD
TZNAME:EST
DTSTART:20231105T020000
TZOFFSETFROM:-0400
TZOFFSETTO:-0500
RDATE:20241103T020000
RDATE:20251102T020000
END:STANDARD
BEGIN:DAYLIGHT
TZNAME:EDT
DTSTART:20240310T020000
TZOFFSETFROM:-0500
TZOFFSETTO:-0400
RDATE:20250309T020000
END:DAYLIGHT
END:VTIMEZONE
BEGIN:VEVENT
UID:83c9b2c5-74f6-4c0f-bcd0-dde27de5f60b
DTSTAMP:20260425T192013Z
DESCRIPTION:
DTSTART;TZID=America/New_York:20240819T080000
DTEND;TZID=America/New_York:20240819T143000
LOCATION:1200 SE 10th Street\, Stuart\, FL 34994 US
SUMMARY:STAR Reading Assesments 1st grade to 5th grade
END:VEVENT
END:VCALENDAR
