BEGIN:VCALENDAR
VERSION:2.0
PRODID:-//sjcschargers.com//NONSGML kigkonsult.se iCalcreator 2.30.10//
CALSCALE:GREGORIAN
METHOD:PUBLISH
UID:eaba7ce6-1482-4109-bf44-a77c34a8b129
X-WR-CALDESC:
X-WR-RELCALID:21fe8bafb91e5bd417180376fb7917ab
X-WR-TIMEZONE:America/New_York
BEGIN:VTIMEZONE
TZID:America/New_York
BEGIN:STANDARD
TZNAME:EST
DTSTART:20231105T020000
TZOFFSETFROM:-0400
TZOFFSETTO:-0500
RDATE:20241103T020000
RDATE:20251102T020000
END:STANDARD
BEGIN:DAYLIGHT
TZNAME:EDT
DTSTART:20240310T020000
TZOFFSETFROM:-0500
TZOFFSETTO:-0400
RDATE:20250309T020000
END:DAYLIGHT
END:VTIMEZONE
BEGIN:VEVENT
UID:84eeb417-78b2-47eb-9477-3814769af100
DTSTAMP:20260425T191259Z
DESCRIPTION:
DTSTART;TZID=America/New_York:20240821T083000
DTEND;TZID=America/New_York:20240821T093000
LOCATION:1200 SE 10th Street\, Stuart\, FL 34994 US
SUMMARY:All School Mass 7A
END:VEVENT
END:VCALENDAR
