BEGIN:VCALENDAR
VERSION:2.0
PRODID:-//sjcschargers.com//NONSGML kigkonsult.se iCalcreator 2.30.10//
CALSCALE:GREGORIAN
METHOD:PUBLISH
UID:3f8a753b-c19e-4d33-95c5-257673882a66
X-WR-CALDESC:
X-WR-RELCALID:28d52947cabfc9815b45eed0f299730e
X-WR-TIMEZONE:America/New_York
BEGIN:VTIMEZONE
TZID:America/New_York
BEGIN:STANDARD
TZNAME:EST
DTSTART:20231105T020000
TZOFFSETFROM:-0400
TZOFFSETTO:-0500
RDATE:20241103T020000
RDATE:20251102T020000
END:STANDARD
BEGIN:DAYLIGHT
TZNAME:EDT
DTSTART:20240310T020000
TZOFFSETFROM:-0500
TZOFFSETTO:-0400
RDATE:20250309T020000
END:DAYLIGHT
END:VTIMEZONE
BEGIN:VEVENT
UID:52805c99-3164-4373-b172-fabeea18af47
DTSTAMP:20260425T191849Z
DESCRIPTION:
DTSTART;TZID=America/New_York:20240826T083000
DTEND;TZID=America/New_York:20240826T143000
LOCATION:1200 SE 10th Street\, Stuart\, FL 34994 US
SUMMARY:STAR Early Lieteracy & Math Assesments Kindergarten
END:VEVENT
END:VCALENDAR
