BEGIN:VCALENDAR
VERSION:2.0
PRODID:-//sjcschargers.com//NONSGML kigkonsult.se iCalcreator 2.30.10//
CALSCALE:GREGORIAN
METHOD:PUBLISH
UID:3ee6eee2-da4e-44ec-a852-7105f1fb157b
X-WR-CALDESC:Students may wear their new 2024/2025 'Soaring to Greater Heig
 hts With God' Spirit shirt with uniform bottoms.
X-WR-RELCALID:da37397e06277a7f4e339dc25d89c0ed
X-WR-TIMEZONE:America/New_York
BEGIN:VTIMEZONE
TZID:America/New_York
BEGIN:STANDARD
TZNAME:EST
DTSTART:20231105T020000
TZOFFSETFROM:-0400
TZOFFSETTO:-0500
RDATE:20241103T020000
RDATE:20251102T020000
END:STANDARD
BEGIN:DAYLIGHT
TZNAME:EDT
DTSTART:20240310T020000
TZOFFSETFROM:-0500
TZOFFSETTO:-0400
RDATE:20250309T020000
END:DAYLIGHT
END:VTIMEZONE
BEGIN:VEVENT
UID:0520f06f-9659-449d-a121-f53e39285b21
DTSTAMP:20260425T205831Z
DESCRIPTION:Students may wear their new 2024/2025 'Soaring to Greater Heigh
 ts With God' Spirit shirt with uniform bottoms.
DTSTART;TZID=America/New_York:20240903T073000
DTEND;TZID=America/New_York:20240903T153000
LOCATION:1200 SE 10th Street\, Stuart\, FL 34994 US
SUMMARY:Spirit Day
END:VEVENT
END:VCALENDAR
