BEGIN:VCALENDAR
VERSION:2.0
PRODID:-//sjcschargers.com//NONSGML kigkonsult.se iCalcreator 2.30.10//
CALSCALE:GREGORIAN
METHOD:PUBLISH
UID:f1f40bce-90b1-42c6-bc60-b3da2a9e198a
X-WR-CALDESC:Parents of 8th Graders are invited to attend this Mass.
X-WR-RELCALID:53953713a78ec36b54326ac18199fa53
X-WR-TIMEZONE:America/New_York
BEGIN:VTIMEZONE
TZID:America/New_York
BEGIN:STANDARD
TZNAME:EST
DTSTART:20231105T020000
TZOFFSETFROM:-0400
TZOFFSETTO:-0500
RDATE:20241103T020000
RDATE:20251102T020000
END:STANDARD
BEGIN:DAYLIGHT
TZNAME:EDT
DTSTART:20240310T020000
TZOFFSETFROM:-0500
TZOFFSETTO:-0400
RDATE:20250309T020000
END:DAYLIGHT
END:VTIMEZONE
BEGIN:VEVENT
UID:1afc8b2f-d223-4cb6-91b1-e15d0e1d5335
DTSTAMP:20260425T205636Z
DESCRIPTION:Parents of 8th Graders are invited to attend this Mass.
DTSTART;TZID=America/New_York:20240904T083000
DTEND;TZID=America/New_York:20240904T093000
LOCATION:1200 SE 10th Street\, Stuart\, FL 34994 US
SUMMARY:All School Mass\; 8th Grade Commissioning
END:VEVENT
END:VCALENDAR
