BEGIN:VCALENDAR
VERSION:2.0
PRODID:-//sjcschargers.com//NONSGML kigkonsult.se iCalcreator 2.30.10//
CALSCALE:GREGORIAN
METHOD:PUBLISH
UID:670a5665-d86c-4051-98a2-d6714267fc44
X-WR-CALDESC:
X-WR-RELCALID:093953989c9230067ac244d48649479d
X-WR-TIMEZONE:America/New_York
BEGIN:VTIMEZONE
TZID:America/New_York
BEGIN:STANDARD
TZNAME:EST
DTSTART:20231105T020000
TZOFFSETFROM:-0400
TZOFFSETTO:-0500
RDATE:20241103T020000
RDATE:20251102T020000
END:STANDARD
BEGIN:DAYLIGHT
TZNAME:EDT
DTSTART:20240310T020000
TZOFFSETFROM:-0500
TZOFFSETTO:-0400
RDATE:20250309T020000
RDATE:20260308T020000
END:DAYLIGHT
END:VTIMEZONE
BEGIN:VEVENT
UID:18b00b21-15bf-410d-8bce-e09eb8422933
DTSTAMP:20260425T210459Z
DESCRIPTION:
DTSTART;TZID=America/New_York:20240910T083000
DTEND;TZID=America/New_York:20240910T100000
LOCATION:1200 SE 10th Street\, Stuart\, FL 34994 US
SUMMARY:Home & School Room Parent Meeting in Family Center
END:VEVENT
END:VCALENDAR
