BEGIN:VCALENDAR
VERSION:2.0
PRODID:-//sjcschargers.com//NONSGML kigkonsult.se iCalcreator 2.30.10//
CALSCALE:GREGORIAN
METHOD:PUBLISH
UID:91f4d7f5-09e4-4788-8c05-81e326813f49
X-WR-CALDESC:
X-WR-RELCALID:31b36bb95918f91e5702e953fc1b393b
X-WR-TIMEZONE:America/New_York
BEGIN:VTIMEZONE
TZID:America/New_York
BEGIN:STANDARD
TZNAME:EST
DTSTART:20231105T020000
TZOFFSETFROM:-0400
TZOFFSETTO:-0500
RDATE:20241103T020000
RDATE:20251102T020000
END:STANDARD
BEGIN:DAYLIGHT
TZNAME:EDT
DTSTART:20240310T020000
TZOFFSETFROM:-0500
TZOFFSETTO:-0400
RDATE:20250309T020000
RDATE:20260308T020000
END:DAYLIGHT
END:VTIMEZONE
BEGIN:VEVENT
UID:cc18e452-10f7-473b-8de9-09a8d910b9aa
DTSTAMP:20260425T210223Z
DESCRIPTION:
DTSTART;TZID=America/New_York:20240915T090000
DTEND;TZID=America/New_York:20240915T101500
LOCATION:1200 SE 10th Street\, Stuart\, FL 34994 US
SUMMARY:SJCS Catechetical Sunday Mass:  All Teachers Commissioned
END:VEVENT
END:VCALENDAR
