BEGIN:VCALENDAR
VERSION:2.0
PRODID:-//sjcschargers.com//NONSGML kigkonsult.se iCalcreator 2.30.10//
CALSCALE:GREGORIAN
METHOD:PUBLISH
UID:bcceb5b8-540b-474d-a095-2bee8cd73375
X-WR-CALDESC:
X-WR-RELCALID:cae07f3d511a48a67ac00f8e8ebc96e6
X-WR-TIMEZONE:America/New_York
BEGIN:VTIMEZONE
TZID:America/New_York
BEGIN:STANDARD
TZNAME:EST
DTSTART:20231105T020000
TZOFFSETFROM:-0400
TZOFFSETTO:-0500
RDATE:20241103T020000
RDATE:20251102T020000
END:STANDARD
BEGIN:DAYLIGHT
TZNAME:EDT
DTSTART:20240310T020000
TZOFFSETFROM:-0500
TZOFFSETTO:-0400
RDATE:20250309T020000
RDATE:20260308T020000
END:DAYLIGHT
END:VTIMEZONE
BEGIN:VEVENT
UID:9767044b-3891-4285-b15e-d3616f986c79
DTSTAMP:20260425T205704Z
DESCRIPTION:
DTSTART;TZID=America/New_York:20240918T083000
DTEND;TZID=America/New_York:20240918T093000
LOCATION:1200 SE 10th Street\, Stuart\, FL 34994 US
SUMMARY:All School Mass 8B
END:VEVENT
END:VCALENDAR
