BEGIN:VCALENDAR
VERSION:2.0
PRODID:-//sjcschargers.com//NONSGML kigkonsult.se iCalcreator 2.30.10//
CALSCALE:GREGORIAN
METHOD:PUBLISH
UID:89aae0c6-359b-4b9c-99ea-ece3a323095b
X-WR-CALDESC:
X-WR-RELCALID:01aa7668a42d5dc1ac940ec0b87d0564
X-WR-TIMEZONE:America/New_York
BEGIN:VTIMEZONE
TZID:America/New_York
BEGIN:STANDARD
TZNAME:EST
DTSTART:20231105T020000
TZOFFSETFROM:-0400
TZOFFSETTO:-0500
RDATE:20241103T020000
RDATE:20251102T020000
END:STANDARD
BEGIN:DAYLIGHT
TZNAME:EDT
DTSTART:20240310T020000
TZOFFSETFROM:-0500
TZOFFSETTO:-0400
RDATE:20250309T020000
RDATE:20260308T020000
END:DAYLIGHT
END:VTIMEZONE
BEGIN:VEVENT
UID:10352bab-8f8d-4060-947b-2a35427629c3
DTSTAMP:20260425T210427Z
DESCRIPTION:
DTSTART;TZID=America/New_York:20240920T180000
DTEND;TZID=America/New_York:20240920T210000
LOCATION:1200 SE 10th Street\, Stuart\, FL 34994 US
SUMMARY:Charger Family Mentor Dinner Family Center
END:VEVENT
END:VCALENDAR
