BEGIN:VCALENDAR
VERSION:2.0
PRODID:-//sjcschargers.com//NONSGML kigkonsult.se iCalcreator 2.30.10//
CALSCALE:GREGORIAN
METHOD:PUBLISH
UID:d41ef6c2-9508-45b1-b3e5-552d85d44e50
X-WR-CALDESC:
X-WR-RELCALID:2531410f729e29f7cb590bbf564b7c0c
X-WR-TIMEZONE:America/New_York
BEGIN:VTIMEZONE
TZID:America/New_York
BEGIN:STANDARD
TZNAME:EST
DTSTART:20231105T020000
TZOFFSETFROM:-0400
TZOFFSETTO:-0500
RDATE:20241103T020000
RDATE:20251102T020000
END:STANDARD
BEGIN:DAYLIGHT
TZNAME:EDT
DTSTART:20240310T020000
TZOFFSETFROM:-0500
TZOFFSETTO:-0400
RDATE:20250309T020000
RDATE:20260308T020000
END:DAYLIGHT
END:VTIMEZONE
BEGIN:VEVENT
UID:02069bc1-1085-40e7-b04d-8c21caf22408
DTSTAMP:20260425T205744Z
DESCRIPTION:
DTSTART;TZID=America/New_York:20240925T083000
DTEND;TZID=America/New_York:20240925T093000
LOCATION:1200 SE 10th Street\, Stuart\, FL 34994 US
SUMMARY:All School Mass 6A
END:VEVENT
END:VCALENDAR
