BEGIN:VCALENDAR
VERSION:2.0
PRODID:-//sjcschargers.com//NONSGML kigkonsult.se iCalcreator 2.30.10//
CALSCALE:GREGORIAN
METHOD:PUBLISH
UID:8a14e022-4c85-47e8-9341-17588aed688d
X-WR-CALDESC:
X-WR-RELCALID:89c441b47eb0ddd32e78687e32f7d159
X-WR-TIMEZONE:America/New_York
BEGIN:VTIMEZONE
TZID:America/New_York
BEGIN:STANDARD
TZNAME:EST
DTSTART:20231105T020000
TZOFFSETFROM:-0400
TZOFFSETTO:-0500
RDATE:20241103T020000
RDATE:20251102T020000
END:STANDARD
BEGIN:DAYLIGHT
TZNAME:EDT
DTSTART:20240310T020000
TZOFFSETFROM:-0500
TZOFFSETTO:-0400
RDATE:20250309T020000
RDATE:20260308T020000
END:DAYLIGHT
END:VTIMEZONE
BEGIN:VEVENT
UID:395408b9-b105-43d9-9772-ce19e40b5c50
DTSTAMP:20260425T223314Z
DESCRIPTION:
DTSTART;TZID=America/New_York:20241004T074500
DTEND;TZID=America/New_York:20241004T081500
LOCATION:1200 SE 10th Street\, Stuart\, FL 34994 US
SUMMARY:Blessing of Pets
END:VEVENT
END:VCALENDAR
