BEGIN:VCALENDAR
VERSION:2.0
PRODID:-//sjcschargers.com//NONSGML kigkonsult.se iCalcreator 2.30.10//
CALSCALE:GREGORIAN
METHOD:PUBLISH
UID:432e8690-e53e-48d6-b139-7cfb17152f3c
X-WR-CALDESC:
X-WR-RELCALID:4d31704771c1ba81e786d3cd012ae6a8
X-WR-TIMEZONE:America/New_York
BEGIN:VTIMEZONE
TZID:America/New_York
BEGIN:STANDARD
TZNAME:EST
DTSTART:20231105T020000
TZOFFSETFROM:-0400
TZOFFSETTO:-0500
RDATE:20241103T020000
RDATE:20251102T020000
END:STANDARD
BEGIN:DAYLIGHT
TZNAME:EDT
DTSTART:20240310T020000
TZOFFSETFROM:-0500
TZOFFSETTO:-0400
RDATE:20250309T020000
RDATE:20260308T020000
END:DAYLIGHT
END:VTIMEZONE
BEGIN:VEVENT
UID:7d0a902d-7c4e-482e-aca6-9d202f16b86b
DTSTAMP:20260425T223034Z
DESCRIPTION:
DTSTART;TZID=America/New_York:20241009T083000
DTEND;TZID=America/New_York:20241009T093000
LOCATION:1200 SE 10th Street\, Stuart\, FL 34994 US
SUMMARY:All School Mass 5A
END:VEVENT
END:VCALENDAR
