BEGIN:VCALENDAR
VERSION:2.0
PRODID:-//sjcschargers.com//NONSGML kigkonsult.se iCalcreator 2.30.10//
CALSCALE:GREGORIAN
METHOD:PUBLISH
UID:d014f9f3-1074-4224-95bb-42784d7f4a5c
X-WR-CALDESC:
X-WR-RELCALID:7e535025bddb112469d2684c707472ce
X-WR-TIMEZONE:America/New_York
BEGIN:VTIMEZONE
TZID:America/New_York
BEGIN:STANDARD
TZNAME:EST
DTSTART:20231105T020000
TZOFFSETFROM:-0400
TZOFFSETTO:-0500
RDATE:20241103T020000
RDATE:20251102T020000
END:STANDARD
BEGIN:DAYLIGHT
TZNAME:EDT
DTSTART:20240310T020000
TZOFFSETFROM:-0500
TZOFFSETTO:-0400
RDATE:20250309T020000
RDATE:20260308T020000
END:DAYLIGHT
END:VTIMEZONE
BEGIN:VEVENT
UID:e86dc847-ebcd-48d9-8702-6aa72bf4ed8b
DTSTAMP:20260425T223326Z
DESCRIPTION:
DTSTART;TZID=America/New_York:20241014T073000
DTEND;TZID=America/New_York:20241014T150000
LOCATION:1200 SE 10th Street\, Stuart\, FL 34996 US
SUMMARY:Columbus Day - SCHOOL IS IN SESSION
END:VEVENT
END:VCALENDAR
