BEGIN:VCALENDAR
VERSION:2.0
PRODID:-//sjcschargers.com//NONSGML kigkonsult.se iCalcreator 2.30.10//
CALSCALE:GREGORIAN
METHOD:PUBLISH
UID:2d9b6206-43b4-428b-bce0-85dfa18eec33
X-WR-CALDESC:
X-WR-RELCALID:0da9ca40041eafe5caa69b35e4d4e4cd
X-WR-TIMEZONE:America/New_York
BEGIN:VTIMEZONE
TZID:America/New_York
BEGIN:STANDARD
TZNAME:EST
DTSTART:20231105T020000
TZOFFSETFROM:-0400
TZOFFSETTO:-0500
RDATE:20241103T020000
RDATE:20251102T020000
END:STANDARD
BEGIN:DAYLIGHT
TZNAME:EDT
DTSTART:20240310T020000
TZOFFSETFROM:-0500
TZOFFSETTO:-0400
RDATE:20250309T020000
RDATE:20260308T020000
END:DAYLIGHT
END:VTIMEZONE
BEGIN:VEVENT
UID:08b01bfd-5075-425d-a086-6552dfc6aed2
DTSTAMP:20260425T223343Z
DESCRIPTION:
DTSTART;TZID=America/New_York:20241014T083000
DTEND;TZID=America/New_York:20241018T150000
LOCATION:1200 SE 10th Street\, Stuart\, AL 34996 US
SUMMARY:STAR Reading Assesments Quarter 2
END:VEVENT
END:VCALENDAR
