BEGIN:VCALENDAR
VERSION:2.0
PRODID:-//sjcschargers.com//NONSGML kigkonsult.se iCalcreator 2.30.10//
CALSCALE:GREGORIAN
METHOD:PUBLISH
UID:ca9c8cc6-e7ff-46fb-932f-b2c72812cc0b
X-WR-CALDESC:
X-WR-RELCALID:24245dc08f8524c8b74dd17bb44a1056
X-WR-TIMEZONE:America/New_York
BEGIN:VTIMEZONE
TZID:America/New_York
BEGIN:STANDARD
TZNAME:EST
DTSTART:20231105T020000
TZOFFSETFROM:-0400
TZOFFSETTO:-0500
RDATE:20241103T020000
RDATE:20251102T020000
END:STANDARD
BEGIN:DAYLIGHT
TZNAME:EDT
DTSTART:20240310T020000
TZOFFSETFROM:-0500
TZOFFSETTO:-0400
RDATE:20250309T020000
RDATE:20260308T020000
END:DAYLIGHT
END:VTIMEZONE
BEGIN:VEVENT
UID:cd3258c6-f094-4628-a92f-e4260e35ae37
DTSTAMP:20260425T223159Z
DESCRIPTION:
DTSTART;TZID=America/New_York:20241018T120000
DTEND;TZID=America/New_York:20241018T180000
LOCATION:1200 SE 10th Street\, Stuart\, FL 34996 US
SUMMARY:Parent/Teacher Conferences
END:VEVENT
END:VCALENDAR
