BEGIN:VCALENDAR
VERSION:2.0
PRODID:-//sjcschargers.com//NONSGML kigkonsult.se iCalcreator 2.30.10//
CALSCALE:GREGORIAN
METHOD:PUBLISH
UID:1e225993-aa53-4fe2-add5-e982e41a4f04
X-WR-CALDESC:
X-WR-RELCALID:ad958fbd38d9e75a6a47feb073168604
X-WR-TIMEZONE:America/New_York
BEGIN:VTIMEZONE
TZID:America/New_York
BEGIN:STANDARD
TZNAME:EST
DTSTART:20231105T020000
TZOFFSETFROM:-0400
TZOFFSETTO:-0500
RDATE:20241103T020000
RDATE:20251102T020000
END:STANDARD
BEGIN:DAYLIGHT
TZNAME:EDT
DTSTART:20240310T020000
TZOFFSETFROM:-0500
TZOFFSETTO:-0400
RDATE:20250309T020000
RDATE:20260308T020000
END:DAYLIGHT
END:VTIMEZONE
BEGIN:VEVENT
UID:023788bf-86b2-4d12-a131-8b724adad49a
DTSTAMP:20260425T222905Z
DESCRIPTION:
DTSTART;TZID=America/New_York:20241024T080000
DTEND;TZID=America/New_York:20241024T100000
LOCATION:1200 SE 10th Street\, Stuart\, FL 34996 US
SUMMARY:NJHS Induction
END:VEVENT
END:VCALENDAR
