BEGIN:VCALENDAR
VERSION:2.0
PRODID:-//sjcschargers.com//NONSGML kigkonsult.se iCalcreator 2.30.10//
CALSCALE:GREGORIAN
METHOD:PUBLISH
UID:fe62122c-97c2-44c5-8958-471d6e439794
X-WR-CALDESC:
X-WR-RELCALID:b4505dee8d0e159b17f6d6c183c9975d
X-WR-TIMEZONE:America/New_York
BEGIN:VTIMEZONE
TZID:America/New_York
BEGIN:STANDARD
TZNAME:EST
DTSTART:20231105T020000
TZOFFSETFROM:-0400
TZOFFSETTO:-0500
RDATE:20241103T020000
RDATE:20251102T020000
END:STANDARD
BEGIN:DAYLIGHT
TZNAME:EDT
DTSTART:20240310T020000
TZOFFSETFROM:-0500
TZOFFSETTO:-0400
RDATE:20250309T020000
RDATE:20260308T020000
END:DAYLIGHT
END:VTIMEZONE
BEGIN:VEVENT
UID:761aa5e5-4c4a-4e85-b88c-996f3c727395
DTSTAMP:20260425T223040Z
DESCRIPTION:
DTSTART;TZID=America/New_York:20241028T073000
DTEND;TZID=America/New_York:20241101T150000
LOCATION:1200 SE 10th Street\, Stuart\, FL 34996 US
SUMMARY:Red Ribbon Week
END:VEVENT
END:VCALENDAR
