BEGIN:VCALENDAR
VERSION:2.0
PRODID:-//sjcschargers.com//NONSGML kigkonsult.se iCalcreator 2.30.10//
CALSCALE:GREGORIAN
METHOD:PUBLISH
UID:b4145e0c-02db-40f7-bd24-c056f40dd7d4
X-WR-CALDESC:
X-WR-RELCALID:f524160feb9cda61bd61e6ed6c56b521
X-WR-TIMEZONE:America/New_York
BEGIN:VTIMEZONE
TZID:America/New_York
BEGIN:STANDARD
TZNAME:EST
DTSTART:20241103T020000
TZOFFSETFROM:-0400
TZOFFSETTO:-0500
RDATE:20251102T020000
END:STANDARD
BEGIN:DAYLIGHT
TZNAME:EDT
DTSTART:20240310T020000
TZOFFSETFROM:-0500
TZOFFSETTO:-0400
RDATE:20250309T020000
RDATE:20260308T020000
END:DAYLIGHT
END:VTIMEZONE
BEGIN:VEVENT
UID:b33517e6-52e8-447c-b70a-0d0d5e6575eb
DTSTAMP:20260426T001914Z
DESCRIPTION:
DTSTART;TZID=America/New_York:20241105T073000
DTEND;TZID=America/New_York:20241105T150000
LOCATION:1200 SE 10th Street\, Stuart\, FL 34996 US
SUMMARY:Spirit Day
END:VEVENT
END:VCALENDAR
