BEGIN:VCALENDAR
VERSION:2.0
PRODID:-//sjcschargers.com//NONSGML kigkonsult.se iCalcreator 2.30.10//
CALSCALE:GREGORIAN
METHOD:PUBLISH
UID:89463152-5c00-4b70-8ae7-10d9672a7662
X-WR-CALDESC:
X-WR-RELCALID:52ab1a86a8cbf81bb25b569310feaeb1
X-WR-TIMEZONE:America/New_York
BEGIN:VTIMEZONE
TZID:America/New_York
BEGIN:STANDARD
TZNAME:EST
DTSTART:20241103T020000
TZOFFSETFROM:-0400
TZOFFSETTO:-0500
RDATE:20251102T020000
END:STANDARD
BEGIN:DAYLIGHT
TZNAME:EDT
DTSTART:20240310T020000
TZOFFSETFROM:-0500
TZOFFSETTO:-0400
RDATE:20250309T020000
RDATE:20260308T020000
END:DAYLIGHT
END:VTIMEZONE
BEGIN:VEVENT
UID:2cd8479f-5187-4e0f-a7fc-3eb61662383b
DTSTAMP:20260426T002345Z
DESCRIPTION:
DTSTART;TZID=America/New_York:20241110T120000
DTEND;TZID=America/New_York:20241110T160000
LOCATION:1200 SE 10th Street\, Stuart\, FL 34996 US
SUMMARY:Willy Wonka Rehearsal in Gym
END:VEVENT
END:VCALENDAR
