BEGIN:VCALENDAR
VERSION:2.0
PRODID:-//sjcschargers.com//NONSGML kigkonsult.se iCalcreator 2.30.10//
CALSCALE:GREGORIAN
METHOD:PUBLISH
UID:3f28c94e-8b2b-46c2-b3bd-1bc60baae755
X-WR-CALDESC:
X-WR-RELCALID:713b1dd7e6f4c8c15913bd7a4bede66b
X-WR-TIMEZONE:America/New_York
BEGIN:VTIMEZONE
TZID:America/New_York
BEGIN:STANDARD
TZNAME:EST
DTSTART:20241103T020000
TZOFFSETFROM:-0400
TZOFFSETTO:-0500
RDATE:20251102T020000
END:STANDARD
BEGIN:DAYLIGHT
TZNAME:EDT
DTSTART:20240310T020000
TZOFFSETFROM:-0500
TZOFFSETTO:-0400
RDATE:20250309T020000
RDATE:20260308T020000
END:DAYLIGHT
END:VTIMEZONE
BEGIN:VEVENT
UID:e5ebcea6-23e4-4702-af8a-4cbab2ccb6df
DTSTAMP:20260426T001740Z
DESCRIPTION:
DTSTART;TZID=America/New_York:20241113T083000
DTEND;TZID=America/New_York:20241113T093000
LOCATION:1200 SE 10th Street\, Stuart\, FL 34996 US
SUMMARY:All School Mass 3B
END:VEVENT
END:VCALENDAR
