BEGIN:VCALENDAR
VERSION:2.0
PRODID:-//sjcschargers.com//NONSGML kigkonsult.se iCalcreator 2.30.10//
CALSCALE:GREGORIAN
METHOD:PUBLISH
UID:fd5e23bb-8420-4eff-8417-9ea03f898805
X-WR-CALDESC:
X-WR-RELCALID:3c9c8175f3458db4fe9d4f5276c45ea2
X-WR-TIMEZONE:America/New_York
BEGIN:VTIMEZONE
TZID:America/New_York
BEGIN:STANDARD
TZNAME:EST
DTSTART:20241103T020000
TZOFFSETFROM:-0400
TZOFFSETTO:-0500
RDATE:20251102T020000
END:STANDARD
BEGIN:DAYLIGHT
TZNAME:EDT
DTSTART:20240310T020000
TZOFFSETFROM:-0500
TZOFFSETTO:-0400
RDATE:20250309T020000
RDATE:20260308T020000
END:DAYLIGHT
END:VTIMEZONE
BEGIN:VEVENT
UID:97105754-208a-4de6-9423-2202486e80c3
DTSTAMP:20260426T002103Z
DESCRIPTION:
DTSTART;TZID=America/New_York:20241113T073000
DTEND;TZID=America/New_York:20241113T153000
LOCATION:1200 SE 10th Street\, Stuart\, AL 34996 US
SUMMARY:Focused on Forever Re-Take Pictures
END:VEVENT
END:VCALENDAR
