BEGIN:VCALENDAR
VERSION:2.0
PRODID:-//sjcschargers.com//NONSGML kigkonsult.se iCalcreator 2.30.10//
CALSCALE:GREGORIAN
METHOD:PUBLISH
UID:628adfe6-44bc-4112-93e7-f078c9e40f60
X-WR-CALDESC:
X-WR-RELCALID:23744588eed4aaf4fd382e3c79357d33
X-WR-TIMEZONE:America/New_York
BEGIN:VTIMEZONE
TZID:America/New_York
BEGIN:STANDARD
TZNAME:EST
DTSTART:20241103T020000
TZOFFSETFROM:-0400
TZOFFSETTO:-0500
RDATE:20251102T020000
END:STANDARD
BEGIN:DAYLIGHT
TZNAME:EDT
DTSTART:20240310T020000
TZOFFSETFROM:-0500
TZOFFSETTO:-0400
RDATE:20250309T020000
RDATE:20260308T020000
END:DAYLIGHT
END:VTIMEZONE
BEGIN:VEVENT
UID:da09951d-949f-4163-9c1f-60e5f6170908
DTSTAMP:20260426T002221Z
DESCRIPTION:
DTSTART;TZID=America/New_York:20241114T060000
DTEND;TZID=America/New_York:20241114T060001
LOCATION:1200 SE 10th Street\, Stuart\, FL 34996 US
SUMMARY:Open House for Prospective SJCS Students & Families
END:VEVENT
END:VCALENDAR
