BEGIN:VCALENDAR
VERSION:2.0
PRODID:-//sjcschargers.com//NONSGML kigkonsult.se iCalcreator 2.30.10//
CALSCALE:GREGORIAN
METHOD:PUBLISH
UID:33ab155c-7afc-4943-ac7c-78f3af39b4d2
X-WR-CALDESC:
X-WR-RELCALID:8ec750fef82302b3cb4c1c10fb3df046
X-WR-TIMEZONE:America/New_York
BEGIN:VTIMEZONE
TZID:America/New_York
BEGIN:STANDARD
TZNAME:EST
DTSTART:20241103T020000
TZOFFSETFROM:-0400
TZOFFSETTO:-0500
RDATE:20251102T020000
END:STANDARD
BEGIN:DAYLIGHT
TZNAME:EDT
DTSTART:20240310T020000
TZOFFSETFROM:-0500
TZOFFSETTO:-0400
RDATE:20250309T020000
RDATE:20260308T020000
END:DAYLIGHT
END:VTIMEZONE
BEGIN:VEVENT
UID:591fca68-8e9f-410e-8a34-afd8116a9e91
DTSTAMP:20260426T001654Z
DESCRIPTION:
DTSTART;TZID=America/New_York:20241125T060000
DTEND;TZID=America/New_York:20241129T060001
LOCATION:1200 SE 10th Street\, Stuart\, FL 34996 US
SUMMARY:Thanksgiving Break
END:VEVENT
END:VCALENDAR
