BEGIN:VCALENDAR
VERSION:2.0
PRODID:-//sjcschargers.com//NONSGML kigkonsult.se iCalcreator 2.30.10//
CALSCALE:GREGORIAN
METHOD:PUBLISH
UID:1ff10244-3267-4233-9cc1-4f96203ff797
X-WR-CALDESC:
X-WR-RELCALID:14f1fb76a667fa86c26b1b73a23c8700
X-WR-TIMEZONE:America/New_York
BEGIN:VTIMEZONE
TZID:America/New_York
BEGIN:STANDARD
TZNAME:EST
DTSTART:20241103T020000
TZOFFSETFROM:-0400
TZOFFSETTO:-0500
RDATE:20251102T020000
END:STANDARD
BEGIN:DAYLIGHT
TZNAME:EDT
DTSTART:20240310T020000
TZOFFSETFROM:-0500
TZOFFSETTO:-0400
RDATE:20250309T020000
RDATE:20260308T020000
END:DAYLIGHT
END:VTIMEZONE
BEGIN:VEVENT
UID:8c4ff064-f6eb-43b2-8d9c-1d63755fcfb1
DTSTAMP:20260426T020915Z
DESCRIPTION:
DTSTART;TZID=America/New_York:20241201T090000
DTEND;TZID=America/New_York:20241201T100000
LOCATION:1200 SE 10th Street\, Stuart\, AL 34996 US
SUMMARY:SJCS Sunday Mass - First Sunday of Advent
END:VEVENT
END:VCALENDAR
