BEGIN:VCALENDAR
VERSION:2.0
PRODID:-//sjcschargers.com//NONSGML kigkonsult.se iCalcreator 2.30.10//
CALSCALE:GREGORIAN
METHOD:PUBLISH
UID:a7b8802c-db60-4d6d-8d4a-5e2ad5d8b916
X-WR-CALDESC:
X-WR-RELCALID:3c0444c119dda6da5e1827d9148a1e8e
X-WR-TIMEZONE:America/New_York
BEGIN:VTIMEZONE
TZID:America/New_York
BEGIN:STANDARD
TZNAME:EST
DTSTART:20241103T020000
TZOFFSETFROM:-0400
TZOFFSETTO:-0500
RDATE:20251102T020000
END:STANDARD
BEGIN:DAYLIGHT
TZNAME:EDT
DTSTART:20240310T020000
TZOFFSETFROM:-0500
TZOFFSETTO:-0400
RDATE:20250309T020000
RDATE:20260308T020000
END:DAYLIGHT
END:VTIMEZONE
BEGIN:VEVENT
UID:baf6815e-ec34-4263-a7cb-a102fe307c39
DTSTAMP:20260426T021211Z
DESCRIPTION:
DTSTART;TZID=America/New_York:20241203T170000
DTEND;TZID=America/New_York:20241203T200000
LOCATION:1200 SE 10th Street\, Stuart\, FL 34996 US
SUMMARY:SJCS Band & Choir Christmas Concert @ Church
END:VEVENT
END:VCALENDAR
