BEGIN:VCALENDAR
VERSION:2.0
PRODID:-//sjcschargers.com//NONSGML kigkonsult.se iCalcreator 2.30.10//
CALSCALE:GREGORIAN
METHOD:PUBLISH
UID:765dccf9-e535-474d-97d8-733aeecde8bf
X-WR-CALDESC:
X-WR-RELCALID:29490ae727dd793af28395b680f61c5b
X-WR-TIMEZONE:America/New_York
BEGIN:VTIMEZONE
TZID:America/New_York
BEGIN:STANDARD
TZNAME:EST
DTSTART:20241103T020000
TZOFFSETFROM:-0400
TZOFFSETTO:-0500
RDATE:20251102T020000
END:STANDARD
BEGIN:DAYLIGHT
TZNAME:EDT
DTSTART:20240310T020000
TZOFFSETFROM:-0500
TZOFFSETTO:-0400
RDATE:20250309T020000
RDATE:20260308T020000
END:DAYLIGHT
END:VTIMEZONE
BEGIN:VEVENT
UID:dcc1c3b7-7a00-47a4-945a-4b3490c34981
DTSTAMP:20260426T020137Z
DESCRIPTION:
DTSTART;TZID=America/New_York:20241206T073000
DTEND;TZID=America/New_York:20241206T150000
LOCATION:1200 SE 10th Street\, Stuart\, FL 34996 US
SUMMARY:High School Placement Test for 8th Grade
END:VEVENT
END:VCALENDAR
