BEGIN:VCALENDAR
VERSION:2.0
PRODID:-//sjcschargers.com//NONSGML kigkonsult.se iCalcreator 2.30.10//
CALSCALE:GREGORIAN
METHOD:PUBLISH
UID:d2048387-2a59-4640-abcd-1ceab83d0ac0
X-WR-CALDESC:
X-WR-RELCALID:5886b3f064ba31ee9f910c6e1393e0ab
X-WR-TIMEZONE:America/New_York
BEGIN:VTIMEZONE
TZID:America/New_York
BEGIN:STANDARD
TZNAME:EST
DTSTART:20241103T020000
TZOFFSETFROM:-0400
TZOFFSETTO:-0500
RDATE:20251102T020000
END:STANDARD
BEGIN:DAYLIGHT
TZNAME:EDT
DTSTART:20240310T020000
TZOFFSETFROM:-0500
TZOFFSETTO:-0400
RDATE:20250309T020000
RDATE:20260308T020000
END:DAYLIGHT
END:VTIMEZONE
BEGIN:VEVENT
UID:304bc0c8-1d61-4053-900e-8b616e8e7663
DTSTAMP:20260426T021021Z
DESCRIPTION:
DTSTART;TZID=America/New_York:20241206T120000
DTEND;TZID=America/New_York:20241206T160000
LOCATION:1200 SE 10th Street\, Stuart\, FL 34996 US
SUMMARY:Willy Wonka Rehearsal in Gym
END:VEVENT
END:VCALENDAR
