BEGIN:VCALENDAR
VERSION:2.0
PRODID:-//sjcschargers.com//NONSGML kigkonsult.se iCalcreator 2.30.10//
CALSCALE:GREGORIAN
METHOD:PUBLISH
UID:baccd436-5263-4de5-8fb8-9b8b54605c3c
X-WR-CALDESC:
X-WR-RELCALID:3135fbb32be1f33de5f82b6f9804b00c
X-WR-TIMEZONE:America/New_York
BEGIN:VTIMEZONE
TZID:America/New_York
BEGIN:STANDARD
TZNAME:EST
DTSTART:20241103T020000
TZOFFSETFROM:-0400
TZOFFSETTO:-0500
RDATE:20251102T020000
END:STANDARD
BEGIN:DAYLIGHT
TZNAME:EDT
DTSTART:20240310T020000
TZOFFSETFROM:-0500
TZOFFSETTO:-0400
RDATE:20250309T020000
RDATE:20260308T020000
END:DAYLIGHT
END:VTIMEZONE
BEGIN:VEVENT
UID:fba967de-a26f-4846-aa4c-ebeed904c071
DTSTAMP:20260426T020505Z
DESCRIPTION:
DTSTART;TZID=America/New_York:20241209T060000
DTEND;TZID=America/New_York:20241213T060001
LOCATION:1200 SE 10th Street\, Stuart\, FL 34996 US
SUMMARY:STAR Early Literacy & Math Assessments 6th - 8th grades
END:VEVENT
END:VCALENDAR
