BEGIN:VCALENDAR
VERSION:2.0
PRODID:-//sjcschargers.com//NONSGML kigkonsult.se iCalcreator 2.30.10//
CALSCALE:GREGORIAN
METHOD:PUBLISH
UID:c3c30f22-c824-43fb-bdf8-04591b37234d
X-WR-CALDESC:
X-WR-RELCALID:759feeae6d658023984c6f132d885c3f
X-WR-TIMEZONE:America/New_York
BEGIN:VTIMEZONE
TZID:America/New_York
BEGIN:STANDARD
TZNAME:EST
DTSTART:20241103T020000
TZOFFSETFROM:-0400
TZOFFSETTO:-0500
RDATE:20251102T020000
END:STANDARD
BEGIN:DAYLIGHT
TZNAME:EDT
DTSTART:20240310T020000
TZOFFSETFROM:-0500
TZOFFSETTO:-0400
RDATE:20250309T020000
RDATE:20260308T020000
END:DAYLIGHT
END:VTIMEZONE
BEGIN:VEVENT
UID:d2e2c858-c63a-4012-8994-ea9135d918d9
DTSTAMP:20260426T020306Z
DESCRIPTION:
DTSTART;TZID=America/New_York:20241213T060000
DTEND;TZID=America/New_York:20241218T060001
LOCATION:1200 SE 10th Street\, Stuart\, FL 34996 US
SUMMARY:Middle School Midterm Examinations
END:VEVENT
END:VCALENDAR
