BEGIN:VCALENDAR
VERSION:2.0
PRODID:-//sjcschargers.com//NONSGML kigkonsult.se iCalcreator 2.30.10//
CALSCALE:GREGORIAN
METHOD:PUBLISH
UID:bf402f5a-233d-4456-8742-6f708692f2a5
X-WR-CALDESC:
X-WR-RELCALID:023c2718323710369c23692ba3af3cd4
X-WR-TIMEZONE:America/New_York
BEGIN:VTIMEZONE
TZID:America/New_York
BEGIN:STANDARD
TZNAME:EST
DTSTART:20241103T020000
TZOFFSETFROM:-0400
TZOFFSETTO:-0500
RDATE:20251102T020000
END:STANDARD
BEGIN:DAYLIGHT
TZNAME:EDT
DTSTART:20240310T020000
TZOFFSETFROM:-0500
TZOFFSETTO:-0400
RDATE:20250309T020000
RDATE:20260308T020000
END:DAYLIGHT
END:VTIMEZONE
BEGIN:VEVENT
UID:037b1f26-225a-41ea-8661-f21f9d179c23
DTSTAMP:20260426T020506Z
DESCRIPTION:
DTSTART;TZID=America/New_York:20241218T083000
DTEND;TZID=America/New_York:20241218T093000
LOCATION:1200 SE 10th Street\, Stuart\, FL 34996 US
SUMMARY:All School Mass led by Teachers
END:VEVENT
END:VCALENDAR
