BEGIN:VCALENDAR
VERSION:2.0
PRODID:-//sjcschargers.com//NONSGML kigkonsult.se iCalcreator 2.30.10//
CALSCALE:GREGORIAN
METHOD:PUBLISH
UID:73877896-7830-4f51-abe1-14e21812061a
X-WR-CALDESC:
X-WR-RELCALID:8588f767ef725488513d685dcfe3683d
X-WR-TIMEZONE:America/New_York
BEGIN:VTIMEZONE
TZID:America/New_York
BEGIN:STANDARD
TZNAME:EST
DTSTART:20241103T020000
TZOFFSETFROM:-0400
TZOFFSETTO:-0500
RDATE:20251102T020000
END:STANDARD
BEGIN:DAYLIGHT
TZNAME:EDT
DTSTART:20240310T020000
TZOFFSETFROM:-0500
TZOFFSETTO:-0400
RDATE:20250309T020000
RDATE:20260308T020000
END:DAYLIGHT
END:VTIMEZONE
BEGIN:VEVENT
UID:e6aeaf8b-5b3b-4f44-9f51-12a770f7b6a3
DTSTAMP:20260426T021129Z
DESCRIPTION:
DTSTART;TZID=America/New_York:20241222T090000
DTEND;TZID=America/New_York:20241222T100000
LOCATION:1200 SE 10th Street\, Stuart\, FL 34996 US
SUMMARY:SJCS Sunday Mass - Fourth Sunday of Advent
END:VEVENT
END:VCALENDAR
