BEGIN:VCALENDAR
VERSION:2.0
PRODID:-//sjcschargers.com//NONSGML kigkonsult.se iCalcreator 2.30.10//
CALSCALE:GREGORIAN
METHOD:PUBLISH
UID:5eb39ede-de52-4672-9c4a-0cd67eaa0505
X-WR-CALDESC:
X-WR-RELCALID:bd1a629535a6311d8939646833c618c6
X-WR-TIMEZONE:America/New_York
BEGIN:VTIMEZONE
TZID:America/New_York
BEGIN:STANDARD
TZNAME:EST
DTSTART:20241103T020000
TZOFFSETFROM:-0400
TZOFFSETTO:-0500
RDATE:20251102T020000
END:STANDARD
BEGIN:DAYLIGHT
TZNAME:EDT
DTSTART:20240310T020000
TZOFFSETFROM:-0500
TZOFFSETTO:-0400
RDATE:20250309T020000
RDATE:20260308T020000
END:DAYLIGHT
END:VTIMEZONE
BEGIN:VEVENT
UID:8486c0c3-4e92-4aaa-80b7-19ff4faed78a
DTSTAMP:20260426T035146Z
DESCRIPTION:
DTSTART;TZID=America/New_York:20250107T110000
DTEND;TZID=America/New_York:20250110T150000
LOCATION:1200 SE 10th Street\, Stuart\, FL 34996 US
SUMMARY:STAR Early Lieteracy & Math Assesments Quarter 3
END:VEVENT
END:VCALENDAR
